BEGIN:VCALENDAR
VERSION:2.0
PRODID:-//ddaysoftware.com//NONSGML DDay.iCal 1.0//EN
BEGIN:VTIMEZONE
TZID:W. Europe Standard Time
BEGIN:STANDARD
DTSTART:20251002T030000
RRULE:FREQ=YEARLY;BYDAY=-1SU;BYHOUR=3;BYMINUTE=0;BYMONTH=10
TZNAME:W. Europe Standard Time
TZOFFSETFROM:+0200
TZOFFSETTO:+0100
END:STANDARD
BEGIN:DAYLIGHT
DTSTART:20250301T020000
RRULE:FREQ=YEARLY;BYDAY=-1SU;BYHOUR=2;BYMINUTE=0;BYMONTH=3
TZNAME:W. Europe Daylight Time
TZOFFSETFROM:+0100
TZOFFSETTO:+0200
END:DAYLIGHT
END:VTIMEZONE
BEGIN:VEVENT
CATEGORIES:Kultur
CATEGORIES:Heimatpflege
CATEGORIES:Museen
CATEGORIES:Ausstellungen
DESCRIPTION:Mit dem Kurs werden geschichtsinteressierte Personen angesproch
 en\, die im Sinne bürgerlichen Engagements zur Wissensvermittlung über ein
 en NS-Erinnerungsort in ihrer Region beitragen wollen.\n\nVeranstalter: He
 imatpflege für den Bezirk Schwaben\, Schwabenakademie Irsee\n\nhttps://hei
 matpflege.bezirk-schwaben.de/aktuelles-presse/aktuelle-veranstaltungen/eri
 nnerungsorte-digitale-herausforderungen
DTEND:20241113T170000
DTSTAMP:20260421T091700Z
DTSTART:20241112T090000
SEQUENCE:0
SUMMARY:NS-Erinnerungsorte: digitale Herausforderungen
UID:47079
URL:https://heimatpflege.bezirk-schwaben.de/aktuelles-presse/aktuelle-veran
 staltungen/erinnerungsorte-digitale-herausforderungen
END:VEVENT
END:VCALENDAR
